BEGIN:VCALENDAR
VERSION:2.0
PRODID:-//DIVI Layout for Church - ECPv5.16.0//NONSGML v1.0//EN
CALSCALE:GREGORIAN
METHOD:PUBLISH
X-WR-CALNAME:DIVI Layout for Church
X-ORIGINAL-URL:https://www.wpportfolio.com/church
X-WR-CALDESC:Events for DIVI Layout for Church
BEGIN:VTIMEZONE
TZID:UTC
BEGIN:STANDARD
TZOFFSETFROM:+0000
TZOFFSETTO:+0000
TZNAME:UTC
DTSTART:20250101T000000
END:STANDARD
END:VTIMEZONE
BEGIN:VEVENT
DTSTART;TZID=UTC:20250221T080000
DTEND;TZID=UTC:20250221T170000
DTSTAMP:20260423T114736
CREATED:20241228T054635Z
LAST-MODIFIED:20241228T054730Z
UID:12035-1740124800-1740157200@www.wpportfolio.com
SUMMARY:Choir Singing
DESCRIPTION:Test
URL:https://www.wpportfolio.com/church/event/choir-singing/
END:VEVENT
END:VCALENDAR